BEGIN:VCALENDAR
VERSION:2.0
PRODID:-//Franklin Center | Autism Spectrum &amp; Neurodiverse Services - ECPv6.12.0.1//NONSGML v1.0//EN
CALSCALE:GREGORIAN
METHOD:PUBLISH
X-ORIGINAL-URL:https://franklinmn.org
X-WR-CALDESC:Events for Franklin Center | Autism Spectrum &amp; Neurodiverse Services
REFRESH-INTERVAL;VALUE=DURATION:PT1H
X-Robots-Tag:noindex
X-PUBLISHED-TTL:PT1H
BEGIN:VTIMEZONE
TZID:America/Chicago
BEGIN:DAYLIGHT
TZOFFSETFROM:-0600
TZOFFSETTO:-0500
TZNAME:CDT
DTSTART:20240310T080000
END:DAYLIGHT
BEGIN:STANDARD
TZOFFSETFROM:-0500
TZOFFSETTO:-0600
TZNAME:CST
DTSTART:20241103T070000
END:STANDARD
END:VTIMEZONE
BEGIN:VEVENT
DTSTART;TZID=America/Chicago:20241125T080000
DTEND;TZID=America/Chicago:20241129T170000
DTSTAMP:20260425T091848
CREATED:20240930T163319Z
LAST-MODIFIED:20240930T163319Z
UID:10001165-1732521600-1732899600@franklinmn.org
SUMMARY:Thanksgiving Break - No Programming
DESCRIPTION:
URL:https://franklinmn.org/event/thanksgiving-break-no-programming-2/
CATEGORIES:Capstone
END:VEVENT
BEGIN:VEVENT
DTSTART;VALUE=DATE:20241127
DTEND;VALUE=DATE:20241130
DTSTAMP:20260425T091848
CREATED:20240718T160954Z
LAST-MODIFIED:20240718T160954Z
UID:10001009-1732665600-1732924799@franklinmn.org
SUMMARY:No School- No Activity Day
DESCRIPTION:Thanksgiving Break
URL:https://franklinmn.org/event/no-school-no-activity-day-15/
CATEGORIES:Academy
END:VEVENT
BEGIN:VEVENT
DTSTART;VALUE=DATE:20241127
DTEND;VALUE=DATE:20241130
DTSTAMP:20260425T091848
CREATED:20240925T191714Z
LAST-MODIFIED:20241112T160929Z
UID:10001161-1732665600-1732924799@franklinmn.org
SUMMARY:No Clubs
DESCRIPTION:
URL:https://franklinmn.org/event/no-clubs-5/
CATEGORIES:Enrichment
END:VEVENT
BEGIN:VEVENT
DTSTART;VALUE=DATE:20241127
DTEND;VALUE=DATE:20241130
DTSTAMP:20260425T091848
CREATED:20241010T154632Z
LAST-MODIFIED:20241010T154632Z
UID:10001180-1732665600-1732924799@franklinmn.org
SUMMARY:Franklin Center Closed - No Therapy
DESCRIPTION:
URL:https://franklinmn.org/event/franklin-center-closed-no-therapy-2/
CATEGORIES:Therapy
END:VEVENT
END:VCALENDAR