BEGIN:VCALENDAR
VERSION:2.0
PRODID:-//Franklin Center | Autism Spectrum &amp; Neurodiverse Services - ECPv6.12.0.1//NONSGML v1.0//EN
CALSCALE:GREGORIAN
METHOD:PUBLISH
X-ORIGINAL-URL:https://franklinmn.org
X-WR-CALDESC:Events for Franklin Center | Autism Spectrum &amp; Neurodiverse Services
REFRESH-INTERVAL;VALUE=DURATION:PT1H
X-Robots-Tag:noindex
X-PUBLISHED-TTL:PT1H
BEGIN:VTIMEZONE
TZID:America/Chicago
BEGIN:DAYLIGHT
TZOFFSETFROM:-0600
TZOFFSETTO:-0500
TZNAME:CDT
DTSTART:20240310T080000
END:DAYLIGHT
BEGIN:STANDARD
TZOFFSETFROM:-0500
TZOFFSETTO:-0600
TZNAME:CST
DTSTART:20241103T070000
END:STANDARD
END:VTIMEZONE
BEGIN:VEVENT
DTSTART;TZID=America/Chicago:20241206T153000
DTEND;TZID=America/Chicago:20241206T163000
DTSTAMP:20260425T185823
CREATED:20240925T190805Z
LAST-MODIFIED:20241112T161415Z
UID:10001135-1733499000-1733502600@franklinmn.org
SUMMARY:Lego Club
DESCRIPTION:
URL:https://franklinmn.org/event/lego-club-3/2024-12-06/
CATEGORIES:Enrichment
END:VEVENT
BEGIN:VEVENT
DTSTART;TZID=America/Chicago:20241206T153000
DTEND;TZID=America/Chicago:20241206T163000
DTSTAMP:20260425T185823
CREATED:20240925T190917Z
LAST-MODIFIED:20241112T161522Z
UID:10001144-1733499000-1733502600@franklinmn.org
SUMMARY:Girls' Club
DESCRIPTION:
URL:https://franklinmn.org/event/girls-club/2024-12-06/
CATEGORIES:Enrichment
END:VEVENT
BEGIN:VEVENT
DTSTART;TZID=America/Chicago:20241206T153000
DTEND;TZID=America/Chicago:20241206T163000
DTSTAMP:20260425T185823
CREATED:20240925T191029Z
LAST-MODIFIED:20241112T161618Z
UID:10001153-1733499000-1733502600@franklinmn.org
SUMMARY:Soccer Club
DESCRIPTION:
URL:https://franklinmn.org/event/soccer-club-2/2024-12-06/
CATEGORIES:Enrichment
END:VEVENT
END:VCALENDAR