BEGIN:VCALENDAR
VERSION:2.0
PRODID:-//Franklin Center | Autism Spectrum &amp; Neurodiverse Services - ECPv6.12.0.1//NONSGML v1.0//EN
CALSCALE:GREGORIAN
METHOD:PUBLISH
X-WR-CALNAME:Franklin Center | Autism Spectrum &amp; Neurodiverse Services
X-ORIGINAL-URL:https://franklinmn.org
X-WR-CALDESC:Events for Franklin Center | Autism Spectrum &amp; Neurodiverse Services
REFRESH-INTERVAL;VALUE=DURATION:PT1H
X-Robots-Tag:noindex
X-PUBLISHED-TTL:PT1H
BEGIN:VTIMEZONE
TZID:America/Chicago
BEGIN:DAYLIGHT
TZOFFSETFROM:-0600
TZOFFSETTO:-0500
TZNAME:CDT
DTSTART:20230312T080000
END:DAYLIGHT
BEGIN:STANDARD
TZOFFSETFROM:-0500
TZOFFSETTO:-0600
TZNAME:CST
DTSTART:20231105T070000
END:STANDARD
END:VTIMEZONE
BEGIN:VEVENT
DTSTART;TZID=America/Chicago:20230103T080000
DTEND;TZID=America/Chicago:20230103T170000
DTSTAMP:20260420T224346
CREATED:20221209T201605Z
LAST-MODIFIED:20221209T201605Z
UID:10000316-1672732800-1672765200@franklinmn.org
SUMMARY:Piano Lessons with Eric Bell\, Second Session
DESCRIPTION:Piano Lessons with Eric Bell\, Tuesdays\, Second Session\nTuesday\, November 15\, 2022-January 17\, 2023 (No club on Tuesday\, November 22\, 2022\, December 20 and 27\, 2022) \nTimes are assigned for during the school day and after registration is complete. \nTo register:  https://www.blackbaud.school/
URL:https://franklinmn.org/event/piano-lessons-with-eric-bell-second-session/2023-01-03/
LOCATION:Franklin Academy
CATEGORIES:Enrichment
ORGANIZER;CN="Amber Trapp":MAILTO:amber.trapp@franklinmn.org
END:VEVENT
BEGIN:VEVENT
DTSTART;TZID=America/Chicago:20230103T152000
DTEND;TZID=America/Chicago:20230103T162000
DTSTAMP:20260420T224346
CREATED:20221209T201135Z
LAST-MODIFIED:20221209T203112Z
UID:10000300-1672759200-1672762800@franklinmn.org
SUMMARY:GoSolar! Kidz: Solar Power your Drone\, Second Session (Cancelled)
DESCRIPTION:GoSolar! Kidz: Solar Power your Drone\nTuesdays\, November 15\, 2022-January 17\, 2022 (No club on November 22 and December 20\, 27)\n3:20-4:20 pm\nUp\, up and away! Enjoy fun remote-control drones charged from solar power.\nYour student will build a solar powered charging station for their drone.\nWhen their drone runs out of juice\, they can simply charge it anywhere outdoors with their solar charging station.\nYour 3-6 grader will have a blast building and using real life tools such as solder ironing\, drills\, etc. When students are done building\, they will\nchallenge other students with their drone.\nIn the end\, students will take home a mini drone and their newly\nbuilt charging station. \nTo register:  https://www.blackbaud.school/
URL:https://franklinmn.org/event/gosolar-kidz-solar-power-your-drone-second-session-cancelled/2023-01-03/
LOCATION:Franklin Academy
CATEGORIES:Enrichment
ORGANIZER;CN="Amber Trapp":MAILTO:amber.trapp@franklinmn.org
END:VEVENT
BEGIN:VEVENT
DTSTART;TZID=America/Chicago:20230103T152000
DTEND;TZID=America/Chicago:20230103T162000
DTSTAMP:20260420T224346
CREATED:20230104T160206Z
LAST-MODIFIED:20230104T160206Z
UID:10000555-1672759200-1672762800@franklinmn.org
SUMMARY:Dungeons and Dragons Second Session\, Cancelled\, Tuesday\, January 3\, 2023
DESCRIPTION:Dungeons and Dragons\nTuesdays\, November 15\, 2022-Tuesday\, January 17\, 2023 (No club on Tuesday\, November 22\, 2022\, December 20\, 27\, 2022)\n3:20-4:20 pm\nD&D is a tabletop game where students create their own fantasy characters.\nThey will work together as a group to solve puzzles\, defeat monsters\, and find treasure in a cooperative roleplaying game.\nStudents are encouraged to bring their own dice\, but supplies will be provided.\nGrab your d20 and roll initiative! \nObjectives: Improved leadership skills\, communication skills\, social awareness\, and decision-making skills. \n  \nTo register:  https://www.blackbaud.school/
URL:https://franklinmn.org/event/dungeons-and-dragons-second-session-cancelled-tuesday-january-3-2023/
LOCATION:Franklin Academy
CATEGORIES:Enrichment
ORGANIZER;CN="Amber Trapp":MAILTO:amber.trapp@franklinmn.org
END:VEVENT
BEGIN:VEVENT
DTSTART;TZID=America/Chicago:20230103T154000
DTEND;TZID=America/Chicago:20230103T164000
DTSTAMP:20260420T224346
CREATED:20230104T160433Z
LAST-MODIFIED:20230104T160433Z
UID:10000556-1672760400-1672764000@franklinmn.org
SUMMARY:Chess Club\, Second Session\, Cancelled on Tuesday\, January 3\, 2023
DESCRIPTION:Chess Club\nSecond Session: Tuesdays\, November 15\, 2022-Tuesday\, January 17\, 2023\n(No club on Tuesday\, November 22\, December 20\, 27\, 2022)\n3:40-4:40 pm\nThis chess club also includes chesskid.com membership. \nTo register:  https://www.blackbaud.school/
URL:https://franklinmn.org/event/chess-club-second-session-cancelled-on-tuesday-january-3-2023/
LOCATION:Franklin Academy
CATEGORIES:Enrichment
ORGANIZER;CN="Amber Trapp":MAILTO:amber.trapp@franklinmn.org
END:VEVENT
BEGIN:VEVENT
DTSTART;TZID=America/Chicago:20230103T161500
DTEND;TZID=America/Chicago:20230103T171500
DTSTAMP:20260420T224346
CREATED:20221209T201406Z
LAST-MODIFIED:20221209T201406Z
UID:10000308-1672762500-1672766100@franklinmn.org
SUMMARY:NeuLingo Club: Mandarin Learning Language\, Second Session (Cancelled)
DESCRIPTION:NeuLingo Club: Mandarin Learning Language\nTuesdays\, November 15\, 2022-January 17\, 2023 (No club on Tuesday\, November 22\, 2022\, December 20\, 27\, 2022)\n4:15-5:15 pm\nNeuLingo is an online\, interactive\, personalized Mandarin Chinese\nlanguage & culture program designed for young learners. \n  \nTo register:  https://www.blackbaud.school/
URL:https://franklinmn.org/event/neulingo-club-mandarin-learning-language-second-session-cancelled/2023-01-03/
LOCATION:Franklin Academy
CATEGORIES:Enrichment
ORGANIZER;CN="Amber Trapp":MAILTO:amber.trapp@franklinmn.org
END:VEVENT
BEGIN:VEVENT
DTSTART;TZID=America/Chicago:20230103T161500
DTEND;TZID=America/Chicago:20230103T171500
DTSTAMP:20260420T224346
CREATED:20230104T161116Z
LAST-MODIFIED:20230104T161116Z
UID:10000557-1672762500-1672766100@franklinmn.org
SUMMARY:Karate Club\, Second Session\, Cancelled for Tuesday\, January 3\, 2023
DESCRIPTION:Karate Club: Tuesdays\, November 15\, 2022-Tuesday\, January 17\, 2023 (No club on Tuesday\, November 22\, 2022\, December 20\, 27\, 2022)\n4:15-5:15 pm\nJK Martial Arts \nTo register:  https://www.blackbaud.school/
URL:https://franklinmn.org/event/karate-club-second-session-cancelled-for-tuesday-january-3-2023/
LOCATION:Franklin Academy
CATEGORIES:Enrichment
ORGANIZER;CN="Amber Trapp":MAILTO:amber.trapp@franklinmn.org
END:VEVENT
BEGIN:VEVENT
DTSTART;TZID=America/Chicago:20230104T080000
DTEND;TZID=America/Chicago:20230104T170000
DTSTAMP:20260420T224346
CREATED:20230104T162739Z
LAST-MODIFIED:20230104T162739Z
UID:10000558-1672819200-1672851600@franklinmn.org
SUMMARY:Piano Lessons with Eric Bell\, Wednesdays\, Second Session\, Cancelled\, Wednesday\, January 4\, 2023
DESCRIPTION:Piano Lessons with Eric Bell: Wednesdays\, Session 2\nWednesdays\, November 16\, 2022-January 18\, 2023 (No piano lessons on Wednesday\, November 23\, 2022\, December 21\, 28\, 2022)\nTimes will be confirmed upon receipt of registration. \n  \nTo register:  https://www.blackbaud.school/
URL:https://franklinmn.org/event/piano-lessons-with-eric-bell-wednesdays-second-session-cancelled-wednesday-january-4-2023/
LOCATION:Franklin Academy
CATEGORIES:Enrichment
ORGANIZER;CN="Amber Trapp":MAILTO:amber.trapp@franklinmn.org
END:VEVENT
BEGIN:VEVENT
DTSTART;TZID=America/Chicago:20230104T152000
DTEND;TZID=America/Chicago:20230104T162000
DTSTAMP:20260420T224346
CREATED:20230104T155923Z
LAST-MODIFIED:20230104T155923Z
UID:10000553-1672845600-1672849200@franklinmn.org
SUMMARY:MS & HS Arts and Crafts Club\, Second Session\, Cancelled for Wednesday\, January 4\, 2023
DESCRIPTION:MS & HS Arts and Crafts Club (Second Session)\nWednesdays\, November 16\, 2022-Wednesday\, January 18\, 2023 (No club on Wednesday\, November 23\, 2022\, December 21\, 28\, 2022)\n3:20-4:20 pm \nTo register:  https://www.blackbaud.school/
URL:https://franklinmn.org/event/ms-hs-arts-and-crafts-club-second-session-cancelled-for-wednesday-january-4-2023/
LOCATION:Franklin Academy
CATEGORIES:Enrichment
ORGANIZER;CN="Amber Trapp":MAILTO:amber.trapp@franklinmn.org
END:VEVENT
BEGIN:VEVENT
DTSTART;TZID=America/Chicago:20230105T151000
DTEND;TZID=America/Chicago:20230105T161000
DTSTAMP:20260420T224346
CREATED:20221209T204533Z
LAST-MODIFIED:20221209T204533Z
UID:10000403-1672931400-1672935000@franklinmn.org
SUMMARY:MNProv Club\, Second Session
DESCRIPTION:MNProv Club: Second Session\nThursday\, November 17\, 2022-Thursday\, January 19\, 2023 (No club on Thursday\, November 24\, 2022\, December 22\, 29\, 2022)\n3:10-4:10 PM \nTo register:  https://www.blackbaud.school/
URL:https://franklinmn.org/event/mnprov-club-second-session/2023-01-05/
LOCATION:Franklin Academy
CATEGORIES:Enrichment
ORGANIZER;CN="Amber Trapp":MAILTO:amber.trapp@franklinmn.org
END:VEVENT
BEGIN:VEVENT
DTSTART;TZID=America/Chicago:20230105T151000
DTEND;TZID=America/Chicago:20230105T161000
DTSTAMP:20260420T224346
CREATED:20221209T204721Z
LAST-MODIFIED:20221209T204721Z
UID:10000411-1672931400-1672935000@franklinmn.org
SUMMARY:LS Lego Club\, Second Session
DESCRIPTION:LS Lego Club\nThursdays 3:10-4:10 pm\nThursdays\, November 17\, 2022-Thursdays\, January 19\, 2022 (No club on Thursdays\, November 24\, 2022\, December 22\, 29\, 2022) \nTo register:  https://www.blackbaud.school/
URL:https://franklinmn.org/event/ls-lego-club-second-session-3/2023-01-05/
LOCATION:Franklin Academy
CATEGORIES:Enrichment
ORGANIZER;CN="Amber Trapp":MAILTO:amber.trapp@franklinmn.org
END:VEVENT
BEGIN:VEVENT
DTSTART;TZID=America/Chicago:20230105T152000
DTEND;TZID=America/Chicago:20230105T162000
DTSTAMP:20260420T224346
CREATED:20221209T204003Z
LAST-MODIFIED:20221209T204003Z
UID:10000385-1672932000-1672935600@franklinmn.org
SUMMARY:LS Minecraft Club\, Second Session (Cancelled)
DESCRIPTION:LS Minecraft Club\nThursdays\, November 17\, 2022-January 18\, 2023 (No club on Thursday\, November 24\, 2022\, December 22\, 29\, 2022)\n3:20-4:20 pm\nMinecraft Club is designed for students who love playing Minecraft and spending time with peers who share a similar\ninterest. Students will cooperate with others to build worlds and go on adventures. \nObjectives: Improved leadership skills\, communication skills\, social awareness\, and decision-making skills. \nTo register:  https://www.blackbaud.school/
URL:https://franklinmn.org/event/ls-minecraft-club-second-session-cancelled/2023-01-05/
LOCATION:Franklin Academy
CATEGORIES:Enrichment
ORGANIZER;CN="Amber Trapp":MAILTO:amber.trapp@franklinmn.org
END:VEVENT
BEGIN:VEVENT
DTSTART;TZID=America/Chicago:20230105T152000
DTEND;TZID=America/Chicago:20230105T162000
DTSTAMP:20260420T224346
CREATED:20221209T204953Z
LAST-MODIFIED:20221209T204953Z
UID:10000419-1672932000-1672935600@franklinmn.org
SUMMARY:MS & HS Cooking Club\, Second Session
DESCRIPTION:MS & HS Cooking Club: Second Session:\nThursday\, December 1\, 2022-Thursday\, January 26\, 2022 (No club on Thursday\, November 24\, 2022\, December 22\, 29\, 2022)\n3:20-4:20 pm\nIn this series Upper Schoolers will learn fun\, practical cooking skills and recipes that can be applied and practiced at home.\nEach week will focus on a particular skill such as safe knife handling and vegetable cuts and then apply that skill to a recipe that can be completed in class.\nThis class is designed to give students a base understanding of how to be creative and safe while developing a valuable life skill. \nTo register:  https://www.blackbaud.school/
URL:https://franklinmn.org/event/ms-hs-cooking-club-second-session/2023-01-05/
LOCATION:Franklin Academy
CATEGORIES:Enrichment
ORGANIZER;CN="Amber Trapp":MAILTO:amber.trapp@franklinmn.org
END:VEVENT
BEGIN:VEVENT
DTSTART;TZID=America/Chicago:20230106T152000
DTEND;TZID=America/Chicago:20230106T162000
DTSTAMP:20260420T224346
CREATED:20230103T164328Z
LAST-MODIFIED:20230103T164328Z
UID:10000552-1673018400-1673022000@franklinmn.org
SUMMARY:Yoga (MS/HS) Club\, Second Session (Cancelled Friday\, January 6\, 2023)
DESCRIPTION:Yoga (MS/HS) Second Session\nFridays\, November 18\, 2022-January 20\, 2023 (No class on Friday November 25\, December 16\, 23\, and 30\, 2022)\n3:20-4:20 pm\nYoga is an ancient healing practice known to calm the body\, mind\, and emotions.\nThe Yoga for Middle/High School class focuses on giving pre-teens and teens tools they can use to reduce stress in their lives\, promote positive body image\, increase strength and flexibility and build community.\nEach class will include a series of yoga poses\, breathing exercises\, and meditation practices to cultivate a calm mind.\nClasses will include music\, activities and discussions on how to apply what they learn in yoga class to help them at home\, school\, and with friends.\nEach class ends with a period of relaxation and gratitude.\nStudents should bring their own yoga mat to class.
URL:https://franklinmn.org/event/yoga-ms-hs-club-second-session-cancelled-friday-january-6-2023/
LOCATION:Franklin Academy
CATEGORIES:Enrichment
ORGANIZER;CN="Amber Trapp":MAILTO:amber.trapp@franklinmn.org
END:VEVENT
BEGIN:VEVENT
DTSTART;TZID=America/Chicago:20230109T080000
DTEND;TZID=America/Chicago:20230109T170000
DTSTAMP:20260420T224346
CREATED:20221209T205533Z
LAST-MODIFIED:20221209T205533Z
UID:10000428-1673251200-1673283600@franklinmn.org
SUMMARY:Yoga (LS) Club\, Second Session
DESCRIPTION:Yoga (LS) Second Session\nMonday\, November 14\, 2022-Monday January 9\, 2022 (No club on Monday\, November 21\, 2022\, December 19\, 26 2022\, and January 2\, 2023)\n3:20-4:20 pm\nYoga is an ancient healing practice known to calm the body\, mind\, and emotions.\nIn this playful yoga class designed especially for elementary aged-children\, children will learn yoga poses\, breathing\, and relaxation exercises which cultivate a calm mind\, increase strength and flexibility\, improve gross and fine motor skills\, improve concentration\, create community and give children the tools to manage stress in their daily lives.\nGames\, stories\, and music will be incorporated into this fun\, non-competitive class.\nEach class ends with a period of relaxation and gratitude.\nChildren should bring their own yoga mat to class. \n  \nTo register:  https://www.blackbaud.school/
URL:https://franklinmn.org/event/yoga-ls-club-second-session/
LOCATION:Franklin Academy
CATEGORIES:Enrichment
ORGANIZER;CN="Amber Trapp":MAILTO:amber.trapp@franklinmn.org
END:VEVENT
BEGIN:VEVENT
DTSTART;TZID=America/Chicago:20230109T152000
DTEND;TZID=America/Chicago:20230109T162000
DTSTAMP:20260420T224346
CREATED:20221209T195846Z
LAST-MODIFIED:20221209T195846Z
UID:10000278-1673277600-1673281200@franklinmn.org
SUMMARY:Creative Storytelling (MS/HS)\, Second Session
DESCRIPTION:Creative Storytelling (MS/HS): Second Session\, Mondays\, November 14\, 2022-Monday\, January 9\, 2023\n(No club on Monday\, December 19\, 26\, 2022\, January 2\, 2023)\n3:20-4:20 pm\nEach week students will explore the different ways that we tell stories\, including visual storytelling\, writing\, and performance/oral storytelling.\nThey will also use different storytelling guides/tools like story cubes\, story cards\, photographs\, etc. that will help students express their creativity in different ways. \nTo register:  https://www.blackbaud.school/
URL:https://franklinmn.org/event/creative-storytelling-ms-hs-second-session/
LOCATION:Franklin Academy
CATEGORIES:Enrichment
ORGANIZER;CN="Amber Trapp":MAILTO:amber.trapp@franklinmn.org
END:VEVENT
BEGIN:VEVENT
DTSTART;TZID=America/Chicago:20230109T152000
DTEND;TZID=America/Chicago:20230109T162000
DTSTAMP:20260420T224346
CREATED:20221209T200441Z
LAST-MODIFIED:20221209T200521Z
UID:10000283-1673277600-1673281200@franklinmn.org
SUMMARY:MS & HS Minecraft Club\, Second Session
DESCRIPTION:MS & HS Minecraft Club\nMondays\, November 14\, 2022-January 9\, 2023 (No club on Monday\, November 21\, 2022\, December 19\, 26\, 2022 and January 2\, 2023)\n3:20-4:20 pm \nTo register:  https://www.blackbaud.school/
URL:https://franklinmn.org/event/ms-hs-minecraft-club-second-session/
LOCATION:Franklin Academy
CATEGORIES:Enrichment
ORGANIZER;CN="Amber Trapp":MAILTO:amber.trapp@franklinmn.org
END:VEVENT
BEGIN:VEVENT
DTSTART;TZID=America/Chicago:20230110T080000
DTEND;TZID=America/Chicago:20230110T170000
DTSTAMP:20260420T224346
CREATED:20221209T201605Z
LAST-MODIFIED:20221209T201605Z
UID:10000317-1673337600-1673370000@franklinmn.org
SUMMARY:Piano Lessons with Eric Bell\, Second Session
DESCRIPTION:Piano Lessons with Eric Bell\, Tuesdays\, Second Session\nTuesday\, November 15\, 2022-January 17\, 2023 (No club on Tuesday\, November 22\, 2022\, December 20 and 27\, 2022) \nTimes are assigned for during the school day and after registration is complete. \nTo register:  https://www.blackbaud.school/
URL:https://franklinmn.org/event/piano-lessons-with-eric-bell-second-session/2023-01-10/
LOCATION:Franklin Academy
CATEGORIES:Enrichment
ORGANIZER;CN="Amber Trapp":MAILTO:amber.trapp@franklinmn.org
END:VEVENT
BEGIN:VEVENT
DTSTART;TZID=America/Chicago:20230110T152000
DTEND;TZID=America/Chicago:20230110T162000
DTSTAMP:20260420T224346
CREATED:20221209T201135Z
LAST-MODIFIED:20221209T203112Z
UID:10000301-1673364000-1673367600@franklinmn.org
SUMMARY:GoSolar! Kidz: Solar Power your Drone\, Second Session (Cancelled)
DESCRIPTION:GoSolar! Kidz: Solar Power your Drone\nTuesdays\, November 15\, 2022-January 17\, 2022 (No club on November 22 and December 20\, 27)\n3:20-4:20 pm\nUp\, up and away! Enjoy fun remote-control drones charged from solar power.\nYour student will build a solar powered charging station for their drone.\nWhen their drone runs out of juice\, they can simply charge it anywhere outdoors with their solar charging station.\nYour 3-6 grader will have a blast building and using real life tools such as solder ironing\, drills\, etc. When students are done building\, they will\nchallenge other students with their drone.\nIn the end\, students will take home a mini drone and their newly\nbuilt charging station. \nTo register:  https://www.blackbaud.school/
URL:https://franklinmn.org/event/gosolar-kidz-solar-power-your-drone-second-session-cancelled/2023-01-10/
LOCATION:Franklin Academy
CATEGORIES:Enrichment
ORGANIZER;CN="Amber Trapp":MAILTO:amber.trapp@franklinmn.org
END:VEVENT
BEGIN:VEVENT
DTSTART;TZID=America/Chicago:20230110T152000
DTEND;TZID=America/Chicago:20230110T162000
DTSTAMP:20260420T224346
CREATED:20230104T160057Z
LAST-MODIFIED:20230104T160058Z
UID:10000294-1673364000-1673367600@franklinmn.org
SUMMARY:Dungeons and Dragons\, Second Session
DESCRIPTION:Dungeons and Dragons\nTuesdays\, November 15\, 2022-Tuesday\, January 17\, 2023 (No club on Tuesday\, November 22\, 2022\, December 20\, 27\, 2022)\n3:20-4:20 pm\nD&D is a tabletop game where students create their own fantasy characters.\nThey will work together as a group to solve puzzles\, defeat monsters\, and find treasure in a cooperative roleplaying game.\nStudents are encouraged to bring their own dice\, but supplies will be provided.\nGrab your d20 and roll initiative! \nObjectives: Improved leadership skills\, communication skills\, social awareness\, and decision-making skills. \n  \nTo register:  https://www.blackbaud.school/
URL:https://franklinmn.org/event/dungeons-and-dragons-second-session-2/2023-01-10/
LOCATION:Franklin Academy
CATEGORIES:Enrichment
ORGANIZER;CN="Amber Trapp":MAILTO:amber.trapp@franklinmn.org
END:VEVENT
BEGIN:VEVENT
DTSTART;TZID=America/Chicago:20230110T154000
DTEND;TZID=America/Chicago:20230110T164000
DTSTAMP:20260420T224346
CREATED:20230104T160329Z
LAST-MODIFIED:20230104T160329Z
UID:10000357-1673365200-1673368800@franklinmn.org
SUMMARY:Chess Club Second Session
DESCRIPTION:Chess Club\nSecond Session: Tuesdays\, November 15\, 2022-Tuesday\, January 17\, 2023\n(No club on Tuesday\, November 22\, December 20\, 27\, 2022)\n3:40-4:40 pm\nThis chess club also includes chesskid.com membership. \nTo register:  https://www.blackbaud.school/
URL:https://franklinmn.org/event/chess-club-second-session-2-2/2023-01-10/
LOCATION:Franklin Academy
CATEGORIES:Enrichment
ORGANIZER;CN="Amber Trapp":MAILTO:amber.trapp@franklinmn.org
END:VEVENT
BEGIN:VEVENT
DTSTART;TZID=America/Chicago:20230110T161500
DTEND;TZID=America/Chicago:20230110T171500
DTSTAMP:20260420T224346
CREATED:20221209T201406Z
LAST-MODIFIED:20221209T201406Z
UID:10000309-1673367300-1673370900@franklinmn.org
SUMMARY:NeuLingo Club: Mandarin Learning Language\, Second Session (Cancelled)
DESCRIPTION:NeuLingo Club: Mandarin Learning Language\nTuesdays\, November 15\, 2022-January 17\, 2023 (No club on Tuesday\, November 22\, 2022\, December 20\, 27\, 2022)\n4:15-5:15 pm\nNeuLingo is an online\, interactive\, personalized Mandarin Chinese\nlanguage & culture program designed for young learners. \n  \nTo register:  https://www.blackbaud.school/
URL:https://franklinmn.org/event/neulingo-club-mandarin-learning-language-second-session-cancelled/2023-01-10/
LOCATION:Franklin Academy
CATEGORIES:Enrichment
ORGANIZER;CN="Amber Trapp":MAILTO:amber.trapp@franklinmn.org
END:VEVENT
BEGIN:VEVENT
DTSTART;TZID=America/Chicago:20230110T161500
DTEND;TZID=America/Chicago:20230110T171500
DTSTAMP:20260420T224346
CREATED:20230104T161014Z
LAST-MODIFIED:20230104T161014Z
UID:10000325-1673367300-1673370900@franklinmn.org
SUMMARY:Karate Club\, Second Session
DESCRIPTION:Karate Club: Tuesdays\, November 15\, 2022-Tuesday\, January 17\, 2023 (No club on Tuesday\, November 22\, 2022\, December 20\, 27\, 2022)\n4:15-5:15 pm\nJK Martial Arts \nTo register:  https://www.blackbaud.school/
URL:https://franklinmn.org/event/karate-club-second-session-3-2/2023-01-10/
LOCATION:Franklin Academy
CATEGORIES:Enrichment
ORGANIZER;CN="Amber Trapp":MAILTO:amber.trapp@franklinmn.org
END:VEVENT
BEGIN:VEVENT
DTSTART;TZID=America/Chicago:20230111T080000
DTEND;TZID=America/Chicago:20230111T170000
DTSTAMP:20260420T224346
CREATED:20221209T203528Z
LAST-MODIFIED:20230104T161304Z
UID:10000378-1673424000-1673456400@franklinmn.org
SUMMARY:Piano Lessons with Eric Bell\, Second Session
DESCRIPTION:Piano Lessons with Eric Bell: Wednesdays\, Session 2\nWednesdays\, November 16\, 2022-January 18\, 2023 (No piano lessons on Wednesday\, November 23\, 2022\, December 21\, 28\, 2022)\nTimes will be confirmed upon receipt of registration. \n  \nTo register:  https://www.blackbaud.school/
URL:https://franklinmn.org/event/piano-lessons-with-eric-bell-second-session-2/2023-01-11/
LOCATION:Franklin Academy
CATEGORIES:Enrichment
ORGANIZER;CN="Amber Trapp":MAILTO:amber.trapp@franklinmn.org
END:VEVENT
BEGIN:VEVENT
DTSTART;TZID=America/Chicago:20230111T152000
DTEND;TZID=America/Chicago:20230111T162000
DTSTAMP:20260420T224346
CREATED:20221209T203321Z
LAST-MODIFIED:20230104T155813Z
UID:10000370-1673450400-1673454000@franklinmn.org
SUMMARY:MS & HS Arts and Crafts Club\, Second Session
DESCRIPTION:MS & HS Arts and Crafts Club (Second Session)\nWednesdays\, November 16\, 2022-Wednesday\, January 18\, 2023 (No club on Wednesday\, November 23\, 2022\, December 21\, 28\, 2022)\n3:20-4:20 pm \nTo register:  https://www.blackbaud.school/
URL:https://franklinmn.org/event/ms-hs-arts-and-crafts-club-second-session/2023-01-11/
LOCATION:Franklin Academy
CATEGORIES:Enrichment
ORGANIZER;CN="Amber Trapp":MAILTO:amber.trapp@franklinmn.org
END:VEVENT
BEGIN:VEVENT
DTSTART;TZID=America/Chicago:20230112T151000
DTEND;TZID=America/Chicago:20230112T161000
DTSTAMP:20260420T224346
CREATED:20221209T204533Z
LAST-MODIFIED:20221209T204533Z
UID:10000404-1673536200-1673539800@franklinmn.org
SUMMARY:MNProv Club\, Second Session
DESCRIPTION:MNProv Club: Second Session\nThursday\, November 17\, 2022-Thursday\, January 19\, 2023 (No club on Thursday\, November 24\, 2022\, December 22\, 29\, 2022)\n3:10-4:10 PM \nTo register:  https://www.blackbaud.school/
URL:https://franklinmn.org/event/mnprov-club-second-session/2023-01-12/
LOCATION:Franklin Academy
CATEGORIES:Enrichment
ORGANIZER;CN="Amber Trapp":MAILTO:amber.trapp@franklinmn.org
END:VEVENT
BEGIN:VEVENT
DTSTART;TZID=America/Chicago:20230112T151000
DTEND;TZID=America/Chicago:20230112T161000
DTSTAMP:20260420T224346
CREATED:20221209T204721Z
LAST-MODIFIED:20221209T204721Z
UID:10000412-1673536200-1673539800@franklinmn.org
SUMMARY:LS Lego Club\, Second Session
DESCRIPTION:LS Lego Club\nThursdays 3:10-4:10 pm\nThursdays\, November 17\, 2022-Thursdays\, January 19\, 2022 (No club on Thursdays\, November 24\, 2022\, December 22\, 29\, 2022) \nTo register:  https://www.blackbaud.school/
URL:https://franklinmn.org/event/ls-lego-club-second-session-3/2023-01-12/
LOCATION:Franklin Academy
CATEGORIES:Enrichment
ORGANIZER;CN="Amber Trapp":MAILTO:amber.trapp@franklinmn.org
END:VEVENT
BEGIN:VEVENT
DTSTART;TZID=America/Chicago:20230112T152000
DTEND;TZID=America/Chicago:20230112T162000
DTSTAMP:20260420T224346
CREATED:20221209T204003Z
LAST-MODIFIED:20221209T204003Z
UID:10000386-1673536800-1673540400@franklinmn.org
SUMMARY:LS Minecraft Club\, Second Session (Cancelled)
DESCRIPTION:LS Minecraft Club\nThursdays\, November 17\, 2022-January 18\, 2023 (No club on Thursday\, November 24\, 2022\, December 22\, 29\, 2022)\n3:20-4:20 pm\nMinecraft Club is designed for students who love playing Minecraft and spending time with peers who share a similar\ninterest. Students will cooperate with others to build worlds and go on adventures. \nObjectives: Improved leadership skills\, communication skills\, social awareness\, and decision-making skills. \nTo register:  https://www.blackbaud.school/
URL:https://franklinmn.org/event/ls-minecraft-club-second-session-cancelled/2023-01-12/
LOCATION:Franklin Academy
CATEGORIES:Enrichment
ORGANIZER;CN="Amber Trapp":MAILTO:amber.trapp@franklinmn.org
END:VEVENT
BEGIN:VEVENT
DTSTART;TZID=America/Chicago:20230112T152000
DTEND;TZID=America/Chicago:20230112T162000
DTSTAMP:20260420T224346
CREATED:20221209T204953Z
LAST-MODIFIED:20221209T204953Z
UID:10000420-1673536800-1673540400@franklinmn.org
SUMMARY:MS & HS Cooking Club\, Second Session
DESCRIPTION:MS & HS Cooking Club: Second Session:\nThursday\, December 1\, 2022-Thursday\, January 26\, 2022 (No club on Thursday\, November 24\, 2022\, December 22\, 29\, 2022)\n3:20-4:20 pm\nIn this series Upper Schoolers will learn fun\, practical cooking skills and recipes that can be applied and practiced at home.\nEach week will focus on a particular skill such as safe knife handling and vegetable cuts and then apply that skill to a recipe that can be completed in class.\nThis class is designed to give students a base understanding of how to be creative and safe while developing a valuable life skill. \nTo register:  https://www.blackbaud.school/
URL:https://franklinmn.org/event/ms-hs-cooking-club-second-session/2023-01-12/
LOCATION:Franklin Academy
CATEGORIES:Enrichment
ORGANIZER;CN="Amber Trapp":MAILTO:amber.trapp@franklinmn.org
END:VEVENT
BEGIN:VEVENT
DTSTART;TZID=America/Chicago:20230113T152000
DTEND;TZID=America/Chicago:20230113T162000
DTSTAMP:20260420T224346
CREATED:20221209T205731Z
LAST-MODIFIED:20230103T164201Z
UID:10000434-1673623200-1673626800@franklinmn.org
SUMMARY:Yoga (MS/HS) Club\, Second Session
DESCRIPTION:Yoga (MS/HS) Second Session\nFridays\, November 18\, 2022-January 20\, 2023 (No class on Friday November 25\, December 16\, 23\, and 30\, 2022)\n3:20-4:20 pm\nYoga is an ancient healing practice known to calm the body\, mind\, and emotions.\nThe Yoga for Middle/High School class focuses on giving pre-teens and teens tools they can use to reduce stress in their lives\, promote positive body image\, increase strength and flexibility and build community.\nEach class will include a series of yoga poses\, breathing exercises\, and meditation practices to cultivate a calm mind.\nClasses will include music\, activities and discussions on how to apply what they learn in yoga class to help them at home\, school\, and with friends.\nEach class ends with a period of relaxation and gratitude.\nStudents should bring their own yoga mat to class.
URL:https://franklinmn.org/event/yoga-ms-hs-club-second-session-2/2023-01-13/
LOCATION:Franklin Academy
CATEGORIES:Enrichment
ORGANIZER;CN="Amber Trapp":MAILTO:amber.trapp@franklinmn.org
END:VEVENT
BEGIN:VEVENT
DTSTART;TZID=America/Chicago:20230117T080000
DTEND;TZID=America/Chicago:20230117T170000
DTSTAMP:20260420T224346
CREATED:20221209T201605Z
LAST-MODIFIED:20221209T201605Z
UID:10000318-1673942400-1673974800@franklinmn.org
SUMMARY:Piano Lessons with Eric Bell\, Second Session
DESCRIPTION:Piano Lessons with Eric Bell\, Tuesdays\, Second Session\nTuesday\, November 15\, 2022-January 17\, 2023 (No club on Tuesday\, November 22\, 2022\, December 20 and 27\, 2022) \nTimes are assigned for during the school day and after registration is complete. \nTo register:  https://www.blackbaud.school/
URL:https://franklinmn.org/event/piano-lessons-with-eric-bell-second-session/2023-01-17/
LOCATION:Franklin Academy
CATEGORIES:Enrichment
ORGANIZER;CN="Amber Trapp":MAILTO:amber.trapp@franklinmn.org
END:VEVENT
END:VCALENDAR