BEGIN:VCALENDAR
VERSION:2.0
PRODID:-//Franklin Center | Autism Spectrum &amp; Neurodiverse Services - ECPv6.12.0.1//NONSGML v1.0//EN
CALSCALE:GREGORIAN
METHOD:PUBLISH
X-WR-CALNAME:Franklin Center | Autism Spectrum &amp; Neurodiverse Services
X-ORIGINAL-URL:https://franklinmn.org
X-WR-CALDESC:Events for Franklin Center | Autism Spectrum &amp; Neurodiverse Services
REFRESH-INTERVAL;VALUE=DURATION:PT1H
X-Robots-Tag:noindex
X-PUBLISHED-TTL:PT1H
BEGIN:VTIMEZONE
TZID:America/Chicago
BEGIN:DAYLIGHT
TZOFFSETFROM:-0600
TZOFFSETTO:-0500
TZNAME:CDT
DTSTART:20230312T080000
END:DAYLIGHT
BEGIN:STANDARD
TZOFFSETFROM:-0500
TZOFFSETTO:-0600
TZNAME:CST
DTSTART:20231105T070000
END:STANDARD
END:VTIMEZONE
BEGIN:VEVENT
DTSTART;TZID=America/Chicago:20230403T080000
DTEND;TZID=America/Chicago:20230403T151000
DTSTAMP:20260422T221901
CREATED:20221026T195820Z
LAST-MODIFIED:20221026T195820Z
UID:10000141-1680508800-1680534600@franklinmn.org
SUMMARY:April 3\, 2023 Activity Day:  Geocatching with Carver County Parks
DESCRIPTION:April 3\, 2023 Activity Day: Geocaching with Carver County Parks \nTo register:  https://www.blackbaud.school/
URL:https://franklinmn.org/event/april-3-2023-activity-day-geocatching-with-carver-county-parks/
LOCATION:Franklin Academy
CATEGORIES:Enrichment
ORGANIZER;CN="Amber Trapp":MAILTO:amber.trapp@franklinmn.org
END:VEVENT
BEGIN:VEVENT
DTSTART;TZID=America/Chicago:20230404T080000
DTEND;TZID=America/Chicago:20230404T151000
DTSTAMP:20260422T221901
CREATED:20221026T195908Z
LAST-MODIFIED:20230314T144534Z
UID:10000142-1680595200-1680621000@franklinmn.org
SUMMARY:April 4\, 2023 Activity Day
DESCRIPTION:April 4\, 2023 Activity Day \nScience From Scientists:  Cryptography \nTo register:  https://www.blackbaud.school/
URL:https://franklinmn.org/event/april-4-2023-activity-day/
LOCATION:Franklin Academy
CATEGORIES:Enrichment
ORGANIZER;CN="Amber Trapp":MAILTO:amber.trapp@franklinmn.org
END:VEVENT
BEGIN:VEVENT
DTSTART;TZID=America/Chicago:20230405T080000
DTEND;TZID=America/Chicago:20230405T151000
DTSTAMP:20260422T221901
CREATED:20221026T200010Z
LAST-MODIFIED:20221026T200010Z
UID:10000143-1680681600-1680707400@franklinmn.org
SUMMARY:April 5\, 2023 Activity Day:  Mill City Museum
DESCRIPTION:April 5\, 2023 Activity Day\nMill City Museum \nTo register:  https://www.blackbaud.school/
URL:https://franklinmn.org/event/april-5-2023-activity-day-mill-city-museum/
LOCATION:Franklin Academy
CATEGORIES:Enrichment
ORGANIZER;CN="Amber Trapp":MAILTO:amber.trapp@franklinmn.org
END:VEVENT
BEGIN:VEVENT
DTSTART;TZID=America/Chicago:20230406T080000
DTEND;TZID=America/Chicago:20230406T151000
DTSTAMP:20260422T221901
CREATED:20221026T200102Z
LAST-MODIFIED:20230314T144637Z
UID:10000144-1680768000-1680793800@franklinmn.org
SUMMARY:April 6\, 2023 Activity Day
DESCRIPTION:April 6\, 2023 Activity Day \nREM5 Virtual Reality Laboratory \nTo register:  https://www.blackbaud.school/
URL:https://franklinmn.org/event/april-6-2023-activity-day/
LOCATION:Franklin Academy
CATEGORIES:Enrichment
ORGANIZER;CN="Amber Trapp":MAILTO:amber.trapp@franklinmn.org
END:VEVENT
BEGIN:VEVENT
DTSTART;TZID=America/Chicago:20230407T080000
DTEND;TZID=America/Chicago:20230407T151000
DTSTAMP:20260422T221901
CREATED:20221026T200533Z
LAST-MODIFIED:20221026T200533Z
UID:10000145-1680854400-1680880200@franklinmn.org
SUMMARY:April 7\, 2023 Activity Day
DESCRIPTION:April 7\, 2023 Activity Day \nTBD \nTo register:  https://www.blackbaud.school/
URL:https://franklinmn.org/event/april-7-2023-activity-day/
LOCATION:Franklin Academy
CATEGORIES:Enrichment
ORGANIZER;CN="Amber Trapp":MAILTO:amber.trapp@franklinmn.org
END:VEVENT
BEGIN:VEVENT
DTSTART;TZID=America/Chicago:20230410T152000
DTEND;TZID=America/Chicago:20230410T162000
DTSTAMP:20260422T221901
CREATED:20230314T145007Z
LAST-MODIFIED:20230314T145007Z
UID:10000593-1681140000-1681143600@franklinmn.org
SUMMARY:MS & HS Minecraft Club\, Fourth Session
DESCRIPTION:MS & HS Minecraft Club\nMondays\, April 10\, 2023-May 22\, 2023\n3:20-4:20 pm\nMinecraft Club is designed for students who love playing Minecraft and spending time with peers who share a similar interest.\nStudents will cooperate with others to build worlds and go on adventures.
URL:https://franklinmn.org/event/ms-hs-minecraft-club-fourth-session/2023-04-10/
LOCATION:Franklin Academy
CATEGORIES:Enrichment
ORGANIZER;CN="Amber Trapp":MAILTO:amber.trapp@franklinmn.org
END:VEVENT
BEGIN:VEVENT
DTSTART;TZID=America/Chicago:20230410T152000
DTEND;TZID=America/Chicago:20230410T162000
DTSTAMP:20260422T221901
CREATED:20230314T145214Z
LAST-MODIFIED:20230314T145214Z
UID:10000600-1681140000-1681143600@franklinmn.org
SUMMARY:Yoga (LS) Club\, Fourth Session
DESCRIPTION:Yoga (LS) Fourth Session\nMonday\, April 10\, 2023-Monday\, May 22\, 2023\n3:20-4:20 pm\nYoga is an ancient healing practice known to calm the body\, mind\, and emotions.\nIn this playful yoga class designed especially for elementary aged-children\, children will learn yoga poses\, breathing\, and relaxation exercises which cultivate a calm mind\, increase strength and flexibility\, improve gross and fine motor skills\, improve concentration\, create community and give children the tools to manage stress in their daily lives.\nGames\, stories\, and music will be incorporated into this fun\, non-competitive class.\nEach class ends with a period of relaxation and gratitude.\nChildren should bring their own yoga mat to class.
URL:https://franklinmn.org/event/yoga-ls-club-fourth-session/2023-04-10/
LOCATION:Franklin Academy
CATEGORIES:Enrichment
ORGANIZER;CN="Amber Trapp":MAILTO:amber.trapp@franklinmn.org
END:VEVENT
BEGIN:VEVENT
DTSTART;TZID=America/Chicago:20230411T080000
DTEND;TZID=America/Chicago:20230411T170000
DTSTAMP:20260422T221901
CREATED:20230314T155632Z
LAST-MODIFIED:20230314T155632Z
UID:10000640-1681200000-1681232400@franklinmn.org
SUMMARY:Piano Lessons with Eric Bell\, Fourth Session
DESCRIPTION:Piano Lessons with Eric Bell\, Tuesdays\, Fourth Session\nTuesday\, April 11\, 2023-Tuesday\, May 23\, 2023\nPiano students learn how to read music independently including rhythm\, dynamics and other artistic details. Motor control related to playing hands independently and finger dexterity is also incorporated.\nIf a student feels confident enough in their abilities to share their music with others\, often they are included in piano recitals (2 per year) and other special events where they are usually filled with pride at their accomplishment of preparing a challenging piece of music.\nThis all begins with weekly lessons where students are taken step by step\, at a pace comfortable for them.
URL:https://franklinmn.org/event/piano-lessons-with-eric-bell-fourth-session/2023-04-11/
LOCATION:Franklin Academy
CATEGORIES:Enrichment
ORGANIZER;CN="Amber Trapp":MAILTO:amber.trapp@franklinmn.org
END:VEVENT
BEGIN:VEVENT
DTSTART;TZID=America/Chicago:20230411T152000
DTEND;TZID=America/Chicago:20230411T162000
DTSTAMP:20260422T221901
CREATED:20230314T154606Z
LAST-MODIFIED:20230314T154606Z
UID:10000621-1681226400-1681230000@franklinmn.org
SUMMARY:Dungeons and Dragons Club\, Fourth Session
DESCRIPTION:Dungeons and Dragons Club\nTuesdays\, April 11\, 2023-Tuesday\, May 23\, 2023\n3:20-4:20 pm\nD&D is a tabletop game where students create their own fantasy characters.\nThey will work together as a group to solve puzzles\, defeat monsters\, and find treasure in a cooperative roleplaying game.\nStudents are encouraged to bring their own dice\, but supplies will be provided.\nGrab your d20 and roll initiative! \nObjectives: Improved leadership skills\, communication skills\, social awareness\, and decision-making skills.
URL:https://franklinmn.org/event/dungeons-and-dragons-club-fourth-session/2023-04-11/
LOCATION:Franklin Academy
CATEGORIES:Enrichment
ORGANIZER;CN="Amber Trapp":MAILTO:amber.trapp@franklinmn.org
END:VEVENT
BEGIN:VEVENT
DTSTART;TZID=America/Chicago:20230411T152000
DTEND;TZID=America/Chicago:20230411T162000
DTSTAMP:20260422T221901
CREATED:20230314T164834Z
LAST-MODIFIED:20230314T200223Z
UID:10000710-1681226400-1681230000@franklinmn.org
SUMMARY:Chess Club\, Fourth Session
DESCRIPTION:Chess Club\nFourth Session: Tuesdays\, April 11\, 2023-Tuesday\, May 23\, 2023\n3:30-4:30 pm\nThis chess club also includes chesskid.com membership.
URL:https://franklinmn.org/event/chess-club-fourth-session/2023-04-11/
LOCATION:Franklin Academy
CATEGORIES:Enrichment
ORGANIZER;CN="Amber Trapp":MAILTO:amber.trapp@franklinmn.org
END:VEVENT
BEGIN:VEVENT
DTSTART;TZID=America/Chicago:20230411T153000
DTEND;TZID=America/Chicago:20230411T163000
DTSTAMP:20260422T221901
CREATED:20230314T154916Z
LAST-MODIFIED:20230314T154916Z
UID:10000628-1681227000-1681230600@franklinmn.org
SUMMARY:Unified Track and Field Club\, Fourth Session
DESCRIPTION:Unified Track and Field Club\nTuesday\, April 11\, 2023-Tuesday\, May 9\, 2023\n3:30-4:30 pm\nThis Unified Track and Field Club will end earlier than the other club sessions on Tuesday\, May 9\, 2023.\nIf we have enough participants\, we will participate in a regional tournament at Roosevelt High School on May 13\, 2023 and a state tournament at Stillwater High School on June 23-25\, 2023.
URL:https://franklinmn.org/event/unified-track-and-field-club-fourth-session/2023-04-11/
LOCATION:Franklin Academy
CATEGORIES:Enrichment
ORGANIZER;CN="Amber Trapp":MAILTO:amber.trapp@franklinmn.org
END:VEVENT
BEGIN:VEVENT
DTSTART;TZID=America/Chicago:20230411T161500
DTEND;TZID=America/Chicago:20230411T171500
DTSTAMP:20260422T221901
CREATED:20230314T155912Z
LAST-MODIFIED:20230314T155912Z
UID:10000647-1681229700-1681233300@franklinmn.org
SUMMARY:Karate Club\, Fourth Session
DESCRIPTION:Karate Club: Tuesdays\, April 11\, 2023-Tuesday\, May 23\, 2023\n4:15-5:15 pm\nJK Martial Arts
URL:https://franklinmn.org/event/karate-club-fourth-session/2023-04-11/
LOCATION:Franklin Academy
CATEGORIES:Enrichment
ORGANIZER;CN="Amber Trapp":MAILTO:amber.trapp@franklinmn.org
END:VEVENT
BEGIN:VEVENT
DTSTART;TZID=America/Chicago:20230412T080000
DTEND;TZID=America/Chicago:20230412T170000
DTSTAMP:20260422T221901
CREATED:20230314T174444Z
LAST-MODIFIED:20230314T174444Z
UID:10000668-1681286400-1681318800@franklinmn.org
SUMMARY:Piano Lessons with Eric Bell\, Wednesdays\, Fourth Session
DESCRIPTION:Piano Lessons with Eric Bell: Wednesdays\, Session 4\nWednesday\, April 12\, 2023-Wednesday\, May 24\, 2023\nTimes will be confirmed upon receipt of registration.
URL:https://franklinmn.org/event/piano-lessons-with-eric-bell-wednesdays-fourth-session/2023-04-12/
LOCATION:Franklin Academy
CATEGORIES:Enrichment
ORGANIZER;CN="Amber Trapp":MAILTO:amber.trapp@franklinmn.org
END:VEVENT
BEGIN:VEVENT
DTSTART;TZID=America/Chicago:20230412T152000
DTEND;TZID=America/Chicago:20230412T170000
DTSTAMP:20260422T221901
CREATED:20230314T165312Z
LAST-MODIFIED:20230314T165312Z
UID:10000661-1681312800-1681318800@franklinmn.org
SUMMARY:Archery Club\, Fourth Session
DESCRIPTION:Archery Club with Carver County Parks \nHone your archery skills through our Youth Archery Series! Practice makes perfect\, and participants will have plenty as they use compound and recurve bows to grow their archery skills through fun games and experiential learning. Students learn the basics of range safety and proper stance\, aim\, and release techniques from our trained instructors. \nAll equipment provided. This program is offered in partnership with Carver County Parks \n\n**Transportation is provided by Franklin Academy and this club is weather dependent.**
URL:https://franklinmn.org/event/archery-club-fourth-session/2023-04-12/
LOCATION:Franklin Academy
CATEGORIES:Enrichment
ORGANIZER;CN="Amber Trapp":MAILTO:amber.trapp@franklinmn.org
END:VEVENT
BEGIN:VEVENT
DTSTART;TZID=America/Chicago:20230413T152000
DTEND;TZID=America/Chicago:20230413T162000
DTSTAMP:20260422T221901
CREATED:20230314T175649Z
LAST-MODIFIED:20230314T175649Z
UID:10000682-1681399200-1681402800@franklinmn.org
SUMMARY:MS & HS Cooking Club\, Fourth Session
DESCRIPTION:MS & HS Cooking Club: Fourth Session:\nThursday\, April 13\, 2023-Thursday\, May 25\, 2023\n3:20-4:20 pm\nIn this series Upper Schoolers will learn fun\, practical cooking skills and recipes that can be applied and practiced at home.\nEach week will focus on a particular skill such as safe knife handling and vegetable cuts and then apply that skill to a recipe that can be completed in class.\nThis class is designed to give students a base understanding of how to be creative and safe while developing a valuable life skill.
URL:https://franklinmn.org/event/ms-hs-cooking-club-fourth-session/2023-04-13/
LOCATION:Franklin Academy
CATEGORIES:Enrichment
ORGANIZER;CN="Amber Trapp":MAILTO:amber.trapp@franklinmn.org
END:VEVENT
BEGIN:VEVENT
DTSTART;TZID=America/Chicago:20230413T153000
DTEND;TZID=America/Chicago:20230413T163000
DTSTAMP:20260422T221901
CREATED:20230214T165346Z
LAST-MODIFIED:20230214T165346Z
UID:10000590-1681399800-1681403400@franklinmn.org
SUMMARY:Unified Basketball League\, Third Session
DESCRIPTION:Engage in Unified Basketball through the Special Olympics.\nThursday\, February 2\, 2023-Thursday\, April 20\, 2023 (No club on Thursday\, February 23\, March 2 and April 6\, 2023)\n3:30-4:30 pm\nThe regional tournament is on Saturday\, April 22\, 2023.\nIf you have not participated in Special Olympics prior\, please complete the athlete application.\nApplication can be found at: www.specialolympicsminnesota.org/get-involved/athletes/.
URL:https://franklinmn.org/event/unified-basketball-league-third-session-3/2023-04-13/
LOCATION:Franklin Academy
CATEGORIES:Enrichment
ORGANIZER;CN="Amber Trapp":MAILTO:amber.trapp@franklinmn.org
END:VEVENT
BEGIN:VEVENT
DTSTART;TZID=America/Chicago:20230414T152000
DTEND;TZID=America/Chicago:20230414T162000
DTSTAMP:20260422T221901
CREATED:20230314T180823Z
LAST-MODIFIED:20230414T173544Z
UID:10000689-1681485600-1681489200@franklinmn.org
SUMMARY:Ballet Club\, Fourth Session
DESCRIPTION:Ballet: Lower School: Fourth Session\nFriday\, April 14\, 2023-Friday\, May 5\, 2023\n3:20-4:20 pm\nTaught by one of Ballet Royale’s Adaptive Ballet and Dance instructors\, this Adaptive Dance club is ideal for both girls and boys who are interested in exploring a new way of movement through dance.\nIt will focus on rhythm\, musicality\, and gross motor skills\, while pushing the barriers of the child’s everyday capabilities.
URL:https://franklinmn.org/event/ballet-club-fourth-session/2023-04-14/
LOCATION:Franklin Academy
CATEGORIES:Enrichment
ORGANIZER;CN="Amber Trapp":MAILTO:amber.trapp@franklinmn.org
END:VEVENT
BEGIN:VEVENT
DTSTART;TZID=America/Chicago:20230417T152000
DTEND;TZID=America/Chicago:20230417T162000
DTSTAMP:20260422T221901
CREATED:20230314T145007Z
LAST-MODIFIED:20230314T145007Z
UID:10000594-1681744800-1681748400@franklinmn.org
SUMMARY:MS & HS Minecraft Club\, Fourth Session
DESCRIPTION:MS & HS Minecraft Club\nMondays\, April 10\, 2023-May 22\, 2023\n3:20-4:20 pm\nMinecraft Club is designed for students who love playing Minecraft and spending time with peers who share a similar interest.\nStudents will cooperate with others to build worlds and go on adventures.
URL:https://franklinmn.org/event/ms-hs-minecraft-club-fourth-session/2023-04-17/
LOCATION:Franklin Academy
CATEGORIES:Enrichment
ORGANIZER;CN="Amber Trapp":MAILTO:amber.trapp@franklinmn.org
END:VEVENT
BEGIN:VEVENT
DTSTART;TZID=America/Chicago:20230417T152000
DTEND;TZID=America/Chicago:20230417T162000
DTSTAMP:20260422T221901
CREATED:20230314T145214Z
LAST-MODIFIED:20230314T145214Z
UID:10000601-1681744800-1681748400@franklinmn.org
SUMMARY:Yoga (LS) Club\, Fourth Session
DESCRIPTION:Yoga (LS) Fourth Session\nMonday\, April 10\, 2023-Monday\, May 22\, 2023\n3:20-4:20 pm\nYoga is an ancient healing practice known to calm the body\, mind\, and emotions.\nIn this playful yoga class designed especially for elementary aged-children\, children will learn yoga poses\, breathing\, and relaxation exercises which cultivate a calm mind\, increase strength and flexibility\, improve gross and fine motor skills\, improve concentration\, create community and give children the tools to manage stress in their daily lives.\nGames\, stories\, and music will be incorporated into this fun\, non-competitive class.\nEach class ends with a period of relaxation and gratitude.\nChildren should bring their own yoga mat to class.
URL:https://franklinmn.org/event/yoga-ls-club-fourth-session/2023-04-17/
LOCATION:Franklin Academy
CATEGORIES:Enrichment
ORGANIZER;CN="Amber Trapp":MAILTO:amber.trapp@franklinmn.org
END:VEVENT
BEGIN:VEVENT
DTSTART;TZID=America/Chicago:20230418T080000
DTEND;TZID=America/Chicago:20230418T170000
DTSTAMP:20260422T221901
CREATED:20230314T155632Z
LAST-MODIFIED:20230314T155632Z
UID:10000641-1681804800-1681837200@franklinmn.org
SUMMARY:Piano Lessons with Eric Bell\, Fourth Session
DESCRIPTION:Piano Lessons with Eric Bell\, Tuesdays\, Fourth Session\nTuesday\, April 11\, 2023-Tuesday\, May 23\, 2023\nPiano students learn how to read music independently including rhythm\, dynamics and other artistic details. Motor control related to playing hands independently and finger dexterity is also incorporated.\nIf a student feels confident enough in their abilities to share their music with others\, often they are included in piano recitals (2 per year) and other special events where they are usually filled with pride at their accomplishment of preparing a challenging piece of music.\nThis all begins with weekly lessons where students are taken step by step\, at a pace comfortable for them.
URL:https://franklinmn.org/event/piano-lessons-with-eric-bell-fourth-session/2023-04-18/
LOCATION:Franklin Academy
CATEGORIES:Enrichment
ORGANIZER;CN="Amber Trapp":MAILTO:amber.trapp@franklinmn.org
END:VEVENT
BEGIN:VEVENT
DTSTART;TZID=America/Chicago:20230418T152000
DTEND;TZID=America/Chicago:20230418T162000
DTSTAMP:20260422T221901
CREATED:20230314T154606Z
LAST-MODIFIED:20230314T154606Z
UID:10000622-1681831200-1681834800@franklinmn.org
SUMMARY:Dungeons and Dragons Club\, Fourth Session
DESCRIPTION:Dungeons and Dragons Club\nTuesdays\, April 11\, 2023-Tuesday\, May 23\, 2023\n3:20-4:20 pm\nD&D is a tabletop game where students create their own fantasy characters.\nThey will work together as a group to solve puzzles\, defeat monsters\, and find treasure in a cooperative roleplaying game.\nStudents are encouraged to bring their own dice\, but supplies will be provided.\nGrab your d20 and roll initiative! \nObjectives: Improved leadership skills\, communication skills\, social awareness\, and decision-making skills.
URL:https://franklinmn.org/event/dungeons-and-dragons-club-fourth-session/2023-04-18/
LOCATION:Franklin Academy
CATEGORIES:Enrichment
ORGANIZER;CN="Amber Trapp":MAILTO:amber.trapp@franklinmn.org
END:VEVENT
BEGIN:VEVENT
DTSTART;TZID=America/Chicago:20230418T152000
DTEND;TZID=America/Chicago:20230418T162000
DTSTAMP:20260422T221901
CREATED:20230314T164834Z
LAST-MODIFIED:20230314T200223Z
UID:10000711-1681831200-1681834800@franklinmn.org
SUMMARY:Chess Club\, Fourth Session
DESCRIPTION:Chess Club\nFourth Session: Tuesdays\, April 11\, 2023-Tuesday\, May 23\, 2023\n3:30-4:30 pm\nThis chess club also includes chesskid.com membership.
URL:https://franklinmn.org/event/chess-club-fourth-session/2023-04-18/
LOCATION:Franklin Academy
CATEGORIES:Enrichment
ORGANIZER;CN="Amber Trapp":MAILTO:amber.trapp@franklinmn.org
END:VEVENT
BEGIN:VEVENT
DTSTART;TZID=America/Chicago:20230418T153000
DTEND;TZID=America/Chicago:20230418T163000
DTSTAMP:20260422T221901
CREATED:20230314T154916Z
LAST-MODIFIED:20230314T154916Z
UID:10000629-1681831800-1681835400@franklinmn.org
SUMMARY:Unified Track and Field Club\, Fourth Session
DESCRIPTION:Unified Track and Field Club\nTuesday\, April 11\, 2023-Tuesday\, May 9\, 2023\n3:30-4:30 pm\nThis Unified Track and Field Club will end earlier than the other club sessions on Tuesday\, May 9\, 2023.\nIf we have enough participants\, we will participate in a regional tournament at Roosevelt High School on May 13\, 2023 and a state tournament at Stillwater High School on June 23-25\, 2023.
URL:https://franklinmn.org/event/unified-track-and-field-club-fourth-session/2023-04-18/
LOCATION:Franklin Academy
CATEGORIES:Enrichment
ORGANIZER;CN="Amber Trapp":MAILTO:amber.trapp@franklinmn.org
END:VEVENT
BEGIN:VEVENT
DTSTART;TZID=America/Chicago:20230418T161500
DTEND;TZID=America/Chicago:20230418T171500
DTSTAMP:20260422T221901
CREATED:20230314T155912Z
LAST-MODIFIED:20230314T155912Z
UID:10000648-1681834500-1681838100@franklinmn.org
SUMMARY:Karate Club\, Fourth Session
DESCRIPTION:Karate Club: Tuesdays\, April 11\, 2023-Tuesday\, May 23\, 2023\n4:15-5:15 pm\nJK Martial Arts
URL:https://franklinmn.org/event/karate-club-fourth-session/2023-04-18/
LOCATION:Franklin Academy
CATEGORIES:Enrichment
ORGANIZER;CN="Amber Trapp":MAILTO:amber.trapp@franklinmn.org
END:VEVENT
BEGIN:VEVENT
DTSTART;TZID=America/Chicago:20230419T080000
DTEND;TZID=America/Chicago:20230419T170000
DTSTAMP:20260422T221901
CREATED:20230314T174444Z
LAST-MODIFIED:20230314T174444Z
UID:10000669-1681891200-1681923600@franklinmn.org
SUMMARY:Piano Lessons with Eric Bell\, Wednesdays\, Fourth Session
DESCRIPTION:Piano Lessons with Eric Bell: Wednesdays\, Session 4\nWednesday\, April 12\, 2023-Wednesday\, May 24\, 2023\nTimes will be confirmed upon receipt of registration.
URL:https://franklinmn.org/event/piano-lessons-with-eric-bell-wednesdays-fourth-session/2023-04-19/
LOCATION:Franklin Academy
CATEGORIES:Enrichment
ORGANIZER;CN="Amber Trapp":MAILTO:amber.trapp@franklinmn.org
END:VEVENT
BEGIN:VEVENT
DTSTART;TZID=America/Chicago:20230419T152000
DTEND;TZID=America/Chicago:20230419T170000
DTSTAMP:20260422T221901
CREATED:20230314T165312Z
LAST-MODIFIED:20230314T165312Z
UID:10000662-1681917600-1681923600@franklinmn.org
SUMMARY:Archery Club\, Fourth Session
DESCRIPTION:Archery Club with Carver County Parks \nHone your archery skills through our Youth Archery Series! Practice makes perfect\, and participants will have plenty as they use compound and recurve bows to grow their archery skills through fun games and experiential learning. Students learn the basics of range safety and proper stance\, aim\, and release techniques from our trained instructors. \nAll equipment provided. This program is offered in partnership with Carver County Parks \n\n**Transportation is provided by Franklin Academy and this club is weather dependent.**
URL:https://franklinmn.org/event/archery-club-fourth-session/2023-04-19/
LOCATION:Franklin Academy
CATEGORIES:Enrichment
ORGANIZER;CN="Amber Trapp":MAILTO:amber.trapp@franklinmn.org
END:VEVENT
BEGIN:VEVENT
DTSTART;TZID=America/Chicago:20230420T152000
DTEND;TZID=America/Chicago:20230420T162000
DTSTAMP:20260422T221901
CREATED:20230314T175649Z
LAST-MODIFIED:20230314T175649Z
UID:10000683-1682004000-1682007600@franklinmn.org
SUMMARY:MS & HS Cooking Club\, Fourth Session
DESCRIPTION:MS & HS Cooking Club: Fourth Session:\nThursday\, April 13\, 2023-Thursday\, May 25\, 2023\n3:20-4:20 pm\nIn this series Upper Schoolers will learn fun\, practical cooking skills and recipes that can be applied and practiced at home.\nEach week will focus on a particular skill such as safe knife handling and vegetable cuts and then apply that skill to a recipe that can be completed in class.\nThis class is designed to give students a base understanding of how to be creative and safe while developing a valuable life skill.
URL:https://franklinmn.org/event/ms-hs-cooking-club-fourth-session/2023-04-20/
LOCATION:Franklin Academy
CATEGORIES:Enrichment
ORGANIZER;CN="Amber Trapp":MAILTO:amber.trapp@franklinmn.org
END:VEVENT
BEGIN:VEVENT
DTSTART;TZID=America/Chicago:20230420T153000
DTEND;TZID=America/Chicago:20230420T163000
DTSTAMP:20260422T221901
CREATED:20230214T165346Z
LAST-MODIFIED:20230214T165346Z
UID:10000591-1682004600-1682008200@franklinmn.org
SUMMARY:Unified Basketball League\, Third Session
DESCRIPTION:Engage in Unified Basketball through the Special Olympics.\nThursday\, February 2\, 2023-Thursday\, April 20\, 2023 (No club on Thursday\, February 23\, March 2 and April 6\, 2023)\n3:30-4:30 pm\nThe regional tournament is on Saturday\, April 22\, 2023.\nIf you have not participated in Special Olympics prior\, please complete the athlete application.\nApplication can be found at: www.specialolympicsminnesota.org/get-involved/athletes/.
URL:https://franklinmn.org/event/unified-basketball-league-third-session-3/2023-04-20/
LOCATION:Franklin Academy
CATEGORIES:Enrichment
ORGANIZER;CN="Amber Trapp":MAILTO:amber.trapp@franklinmn.org
END:VEVENT
BEGIN:VEVENT
DTSTART;TZID=America/Chicago:20230421T152000
DTEND;TZID=America/Chicago:20230421T162000
DTSTAMP:20260422T221901
CREATED:20230314T180823Z
LAST-MODIFIED:20230414T173544Z
UID:10000690-1682090400-1682094000@franklinmn.org
SUMMARY:Ballet Club\, Fourth Session
DESCRIPTION:Ballet: Lower School: Fourth Session\nFriday\, April 14\, 2023-Friday\, May 5\, 2023\n3:20-4:20 pm\nTaught by one of Ballet Royale’s Adaptive Ballet and Dance instructors\, this Adaptive Dance club is ideal for both girls and boys who are interested in exploring a new way of movement through dance.\nIt will focus on rhythm\, musicality\, and gross motor skills\, while pushing the barriers of the child’s everyday capabilities.
URL:https://franklinmn.org/event/ballet-club-fourth-session/2023-04-21/
LOCATION:Franklin Academy
CATEGORIES:Enrichment
ORGANIZER;CN="Amber Trapp":MAILTO:amber.trapp@franklinmn.org
END:VEVENT
BEGIN:VEVENT
DTSTART;TZID=America/Chicago:20230424T152000
DTEND;TZID=America/Chicago:20230424T162000
DTSTAMP:20260422T221901
CREATED:20230314T145007Z
LAST-MODIFIED:20230314T145007Z
UID:10000595-1682349600-1682353200@franklinmn.org
SUMMARY:MS & HS Minecraft Club\, Fourth Session
DESCRIPTION:MS & HS Minecraft Club\nMondays\, April 10\, 2023-May 22\, 2023\n3:20-4:20 pm\nMinecraft Club is designed for students who love playing Minecraft and spending time with peers who share a similar interest.\nStudents will cooperate with others to build worlds and go on adventures.
URL:https://franklinmn.org/event/ms-hs-minecraft-club-fourth-session/2023-04-24/
LOCATION:Franklin Academy
CATEGORIES:Enrichment
ORGANIZER;CN="Amber Trapp":MAILTO:amber.trapp@franklinmn.org
END:VEVENT
END:VCALENDAR