BEGIN:VCALENDAR
VERSION:2.0
PRODID:-//Franklin Center | Autism Spectrum &amp; Neurodiverse Services - ECPv6.12.0.1//NONSGML v1.0//EN
CALSCALE:GREGORIAN
METHOD:PUBLISH
X-ORIGINAL-URL:https://franklinmn.org
X-WR-CALDESC:Events for Franklin Center | Autism Spectrum &amp; Neurodiverse Services
REFRESH-INTERVAL;VALUE=DURATION:PT1H
X-Robots-Tag:noindex
X-PUBLISHED-TTL:PT1H
BEGIN:VTIMEZONE
TZID:America/Chicago
BEGIN:DAYLIGHT
TZOFFSETFROM:-0600
TZOFFSETTO:-0500
TZNAME:CDT
DTSTART:20230312T080000
END:DAYLIGHT
BEGIN:STANDARD
TZOFFSETFROM:-0500
TZOFFSETTO:-0600
TZNAME:CST
DTSTART:20231105T070000
END:STANDARD
END:VTIMEZONE
BEGIN:VEVENT
DTSTART;TZID=America/Chicago:20230407T080000
DTEND;TZID=America/Chicago:20230407T151000
DTSTAMP:20260422T234515
CREATED:20221026T200533Z
LAST-MODIFIED:20221026T200533Z
UID:10000145-1680854400-1680880200@franklinmn.org
SUMMARY:April 7\, 2023 Activity Day
DESCRIPTION:April 7\, 2023 Activity Day \nTBD \nTo register:  https://www.blackbaud.school/
URL:https://franklinmn.org/event/april-7-2023-activity-day/
LOCATION:Franklin Academy
CATEGORIES:Enrichment
ORGANIZER;CN="Amber Trapp":MAILTO:amber.trapp@franklinmn.org
END:VEVENT
END:VCALENDAR