BEGIN:VCALENDAR
VERSION:2.0
PRODID:-//Franklin Center | Autism Spectrum &amp; Neurodiverse Services - ECPv6.12.0.1//NONSGML v1.0//EN
CALSCALE:GREGORIAN
METHOD:PUBLISH
X-WR-CALNAME:Franklin Center | Autism Spectrum &amp; Neurodiverse Services
X-ORIGINAL-URL:https://franklinmn.org
X-WR-CALDESC:Events for Franklin Center | Autism Spectrum &amp; Neurodiverse Services
REFRESH-INTERVAL;VALUE=DURATION:PT1H
X-Robots-Tag:noindex
X-PUBLISHED-TTL:PT1H
BEGIN:VTIMEZONE
TZID:America/Chicago
BEGIN:DAYLIGHT
TZOFFSETFROM:-0600
TZOFFSETTO:-0500
TZNAME:CDT
DTSTART:20260308T080000
END:DAYLIGHT
BEGIN:STANDARD
TZOFFSETFROM:-0500
TZOFFSETTO:-0600
TZNAME:CST
DTSTART:20261101T070000
END:STANDARD
END:VTIMEZONE
BEGIN:VEVENT
DTSTART;TZID=America/Chicago:20261021T084500
DTEND;TZID=America/Chicago:20261021T224500
DTSTAMP:20260420T221400
CREATED:20260310T160258Z
LAST-MODIFIED:20260310T160258Z
UID:10001251-1792572300-1792622700@franklinmn.org
SUMMARY:Picture Day
DESCRIPTION:
URL:https://franklinmn.org/event/picture-day/
CATEGORIES:Academy
END:VEVENT
BEGIN:VEVENT
DTSTART;VALUE=DATE:20261105
DTEND;VALUE=DATE:20261106
DTSTAMP:20260420T221400
CREATED:20260310T162209Z
LAST-MODIFIED:20260310T162418Z
UID:10001252-1793836800-1793923199@franklinmn.org
SUMMARY:Student Picture Gallery Release
DESCRIPTION:
URL:https://franklinmn.org/event/student-picture-gallery-release/
CATEGORIES:Academy
END:VEVENT
BEGIN:VEVENT
DTSTART;TZID=America/Chicago:20261112T084500
DTEND;TZID=America/Chicago:20261112T094500
DTSTAMP:20260420T221400
CREATED:20260310T162648Z
LAST-MODIFIED:20260310T163506Z
UID:10001253-1794473100-1794476700@franklinmn.org
SUMMARY:Picture Day Retakes
DESCRIPTION:
URL:https://franklinmn.org/event/picture-day-retakes/
CATEGORIES:Academy
END:VEVENT
BEGIN:VEVENT
DTSTART;VALUE=DATE:20261125
DTEND;VALUE=DATE:20261126
DTSTAMP:20260420T221400
CREATED:20260310T163808Z
LAST-MODIFIED:20260310T163808Z
UID:10001254-1795564800-1795651199@franklinmn.org
SUMMARY:Picture Retakes Gallery Release
DESCRIPTION:
URL:https://franklinmn.org/event/picture-retakes-gallery-release/
CATEGORIES:Academy
END:VEVENT
END:VCALENDAR